BEGIN:VCALENDAR
VERSION:2.0
PRODID:-//Western Cape Triathlon - ECPv4.9.0.3//NONSGML v1.0//EN
CALSCALE:GREGORIAN
METHOD:PUBLISH
X-WR-CALNAME:Western Cape Triathlon
X-ORIGINAL-URL:https://wctriathlon.co.za
X-WR-CALDESC:Events for Western Cape Triathlon
BEGIN:VEVENT
DTSTART;VALUE=DATE:20240217
DTEND;VALUE=DATE:20240219
DTSTAMP:20260423T102824
CREATED:20220525T060411Z
LAST-MODIFIED:20240124T114734Z
UID:3491-1708128000-1708300799@wctriathlon.co.za
SUMMARY:XTERRA South Africa (incorporating SA X Tri Champs ) - Grabouw
DESCRIPTION:For more information\, please visit: \nhttps://www.xterraplanet.com/event/xterra-south-africa \n  \nXTERRA SA returns to the iconic Elgin valley with trails curated by the Caveman\, seven times world champion Conrad Stoltz. \nIt includes XTERRA SA and SA Cross Triathlon Champs. \n  \n
URL:https://wctriathlon.co.za/event/xterra/
LOCATION:Grabouw Country Club\, Grabouw\, Grabouw\, Overberg\, South Africa
CATEGORIES:Triathlon
END:VEVENT
END:VCALENDAR